BEGIN:VCALENDAR
VERSION:2.0
PRODID:-//Radioklubben Alpha - Ideell förening - ECPv6.15.20//NONSGML v1.0//EN
CALSCALE:GREGORIAN
METHOD:PUBLISH
X-ORIGINAL-URL:https://rkalpha.se
X-WR-CALDESC:Händelser för Radioklubben Alpha - Ideell förening
REFRESH-INTERVAL;VALUE=DURATION:PT1H
X-Robots-Tag:noindex
X-PUBLISHED-TTL:PT1H
BEGIN:VTIMEZONE
TZID:Europe/Paris
BEGIN:DAYLIGHT
TZOFFSETFROM:+0100
TZOFFSETTO:+0200
TZNAME:CEST
DTSTART:20250330T010000
END:DAYLIGHT
BEGIN:STANDARD
TZOFFSETFROM:+0200
TZOFFSETTO:+0100
TZNAME:CET
DTSTART:20251026T010000
END:STANDARD
BEGIN:DAYLIGHT
TZOFFSETFROM:+0100
TZOFFSETTO:+0200
TZNAME:CEST
DTSTART:20260329T010000
END:DAYLIGHT
BEGIN:STANDARD
TZOFFSETFROM:+0200
TZOFFSETTO:+0100
TZNAME:CET
DTSTART:20261025T010000
END:STANDARD
BEGIN:DAYLIGHT
TZOFFSETFROM:+0100
TZOFFSETTO:+0200
TZNAME:CEST
DTSTART:20270328T010000
END:DAYLIGHT
BEGIN:STANDARD
TZOFFSETFROM:+0200
TZOFFSETTO:+0100
TZNAME:CET
DTSTART:20271031T010000
END:STANDARD
END:VTIMEZONE
BEGIN:VEVENT
DTSTART;TZID=Europe/Paris:20260118T150000
DTEND;TZID=Europe/Paris:20260118T170000
DTSTAMP:20260421T183433
CREATED:20260115T175450Z
LAST-MODIFIED:20260115T175450Z
UID:702-1768748400-1768755600@rkalpha.se
SUMMARY:Styrelsemöte
DESCRIPTION:Styrelsemöte hos Nisse.
URL:https://rkalpha.se/event/styrelsemote-2/
END:VEVENT
BEGIN:VEVENT
DTSTART;TZID=Europe/Paris:20260125T150000
DTEND;TZID=Europe/Paris:20260125T170000
DTSTAMP:20260421T183433
CREATED:20251207T162017Z
LAST-MODIFIED:20260121T173146Z
UID:545-1769353200-1769360400@rkalpha.se
SUMMARY:Årsmöte
DESCRIPTION:Årsmöte Radioklubben Alpha. \n \nABF:s lokaler intill Coop i Smedjebacken. \nFöreningen bjuder på smörgåstårta\, kaffe och läsk.\nSå meddela gärna om ni tänker komma.\nDagordning skickas ut via e-post och på hemsidan senast 2 veckor före årsmötet. \n/Styrelsen \nAnmälan till årsmöteAktivera JavaScript i din webbläsare för att fylla i formuläret.Aktivera JavaScript i din webbläsare för att fylla i formuläret.Namn *		\n			Jag Namn anmäla\n			\n		\n		AnmälanJag kommer på årsmötetJag vill anmäla ytterligare person/personerSkicka
URL:https://rkalpha.se/event/arsmote/
LOCATION:ABF Smedjebacken\, Vasagatan 13\, Smedjebacken\, 77730\, Sweden
CATEGORIES:Årsmöte
END:VEVENT
BEGIN:VEVENT
DTSTART;TZID=Europe/Paris:20260215T150000
DTEND;TZID=Europe/Paris:20260215T170000
DTSTAMP:20260421T183433
CREATED:20260201T152336Z
LAST-MODIFIED:20260201T152336Z
UID:846-1771167600-1771174800@rkalpha.se
SUMMARY:Styrelsemöte
DESCRIPTION:
URL:https://rkalpha.se/event/styrelsemote-3/
END:VEVENT
BEGIN:VEVENT
DTSTART;TZID=Europe/Paris:20260225T170000
DTEND;TZID=Europe/Paris:20260225T190000
DTSTAMP:20260421T183433
CREATED:20260202T151738Z
LAST-MODIFIED:20260202T160328Z
UID:859-1772038800-1772046000@rkalpha.se
SUMMARY:Kommunikationsövning med Smedjebackens kommun och räddningstjänsten
DESCRIPTION:Samling vid kommunhuset i Smedjebacken kl. 17:00 25/2 2026.\nVi åker sedan ut till de olika Trygghetspunkterna för att prova kommunikationen. Detta görs på både 69MHz via klubbfrekvensen och via repeatern samt direktfrekvensen på VHF. \nAnmäl ditt deltagande nedan: \nAktivera JavaScript i din webbläsare för att fylla i formuläret.Aktivera JavaScript i din webbläsare för att fylla i formuläret.Namn *FörstSistE-post *		\n			Kommentar eller E-post\n			\n		\n		Kommentar eller meddelandeSkicka
URL:https://rkalpha.se/event/kommunikationsovning-med-smedjebackens-kommun-och-raddningstjansten/
LOCATION:Kommunhuset Smedjebacken
CATEGORIES:Övningar
END:VEVENT
BEGIN:VEVENT
DTSTART;TZID=Europe/Paris:20260309T084500
DTEND;TZID=Europe/Paris:20260309T090000
DTSTAMP:20260421T183433
CREATED:20260307T174209Z
LAST-MODIFIED:20260307T174209Z
UID:1210-1773045900-1773046800@rkalpha.se
SUMMARY:Månadens radiocheck
DESCRIPTION:Månadens radiocheck med Smedjebackens kommun\, Räddningstjänst Smedjebacken\, Ludvika kommun Säkerhetsenheten\, IT-center.
URL:https://rkalpha.se/event/manadens-radiocheck/
CATEGORIES:Övningar
END:VEVENT
BEGIN:VEVENT
DTSTART;TZID=Europe/Paris:20260315T150000
DTEND;TZID=Europe/Paris:20260315T180000
DTSTAMP:20260421T183433
CREATED:20260223T181322Z
LAST-MODIFIED:20260223T182215Z
UID:1064-1773586800-1773597600@rkalpha.se
SUMMARY:Kursstart Instegscertifikat - Kurstillfälle 1
DESCRIPTION:Kurs för Instegscertifikatkurs.
URL:https://rkalpha.se/event/kursstart-instegscertifikatkurs/
LOCATION:ABF Smedjebacken\, Vasagatan 13\, Smedjebacken\, 77730\, Sweden
CATEGORIES:Kurser
END:VEVENT
BEGIN:VEVENT
DTSTART;TZID=Europe/Paris:20260322T150000
DTEND;TZID=Europe/Paris:20260322T180000
DTSTAMP:20260421T183433
CREATED:20260223T181452Z
LAST-MODIFIED:20260223T181452Z
UID:1069-1774191600-1774202400@rkalpha.se
SUMMARY:Instegscertifikatkurs - Kurstillfälle 2
DESCRIPTION:Kurs för instegscertifikat
URL:https://rkalpha.se/event/instegscertifikatkurs-kurstillfalle-2/
LOCATION:ABF Smedjebacken\, Vasagatan 13\, Smedjebacken\, 77730\, Sweden
CATEGORIES:Kurser
END:VEVENT
BEGIN:VEVENT
DTSTART;TZID=Europe/Paris:20260329T150000
DTEND;TZID=Europe/Paris:20260329T180000
DTSTAMP:20260421T183433
CREATED:20260223T181555Z
LAST-MODIFIED:20260223T181555Z
UID:1073-1774796400-1774807200@rkalpha.se
SUMMARY:Instegscertifikatkurs - Kurstillfälle 3
DESCRIPTION:Kurs för instegscertifikat
URL:https://rkalpha.se/event/instegscertifikatkurs-kurstillfalle-3/
LOCATION:ABF Smedjebacken\, Vasagatan 13\, Smedjebacken\, 77730\, Sweden
CATEGORIES:Kurser
END:VEVENT
BEGIN:VEVENT
DTSTART;TZID=Europe/Paris:20260412T150000
DTEND;TZID=Europe/Paris:20260412T170000
DTSTAMP:20260421T183433
CREATED:20260212T092019Z
LAST-MODIFIED:20260212T092019Z
UID:930-1776006000-1776013200@rkalpha.se
SUMMARY:Styrelsemöte
DESCRIPTION:
URL:https://rkalpha.se/event/styrelsemote-6/
LOCATION:Sunnansjö\, Morhagsvägen 104
END:VEVENT
BEGIN:VEVENT
DTSTART;TZID=Europe/Paris:20260419T150000
DTEND;TZID=Europe/Paris:20260419T180000
DTSTAMP:20260421T183433
CREATED:20260223T181700Z
LAST-MODIFIED:20260223T181700Z
UID:1077-1776610800-1776621600@rkalpha.se
SUMMARY:Instegscertifikatkurs - Kurstillfälle 4
DESCRIPTION:Kurs för instegscertifikat
URL:https://rkalpha.se/event/instegscertifikatkurs-kurstillfalle-4/
LOCATION:ABF Smedjebacken\, Vasagatan 13\, Smedjebacken\, 77730\, Sweden
CATEGORIES:Kurser
END:VEVENT
BEGIN:VEVENT
DTSTART;TZID=Europe/Paris:20260426T150000
DTEND;TZID=Europe/Paris:20260426T180000
DTSTAMP:20260421T183433
CREATED:20260223T181757Z
LAST-MODIFIED:20260223T181757Z
UID:1081-1777215600-1777226400@rkalpha.se
SUMMARY:Instegscertifikatkurs - Kurstillfälle 5
DESCRIPTION:Kurs för instegscertifikat
URL:https://rkalpha.se/event/instegscertifikatkurs-kurstillfalle-5/
LOCATION:ABF Smedjebacken\, Vasagatan 13\, Smedjebacken\, 77730\, Sweden
CATEGORIES:Kurser
END:VEVENT
BEGIN:VEVENT
DTSTART;TZID=Europe/Paris:20260503T150000
DTEND;TZID=Europe/Paris:20260503T180000
DTSTAMP:20260421T183433
CREATED:20260223T181900Z
LAST-MODIFIED:20260223T181900Z
UID:1085-1777820400-1777831200@rkalpha.se
SUMMARY:Instegscertifikatkurs - Kurstillfälle 6
DESCRIPTION:Kurs för instegscertifikat
URL:https://rkalpha.se/event/instegscertifikatkurs-kurstillfalle-6/
LOCATION:ABF Smedjebacken\, Vasagatan 13\, Smedjebacken\, 77730\, Sweden
CATEGORIES:Kurser
END:VEVENT
BEGIN:VEVENT
DTSTART;TZID=Europe/Paris:20260509T090000
DTEND;TZID=Europe/Paris:20260510T160000
DTSTAMP:20260421T183433
CREATED:20260116T145836Z
LAST-MODIFIED:20260116T150713Z
UID:711-1778317200-1778428800@rkalpha.se
SUMMARY:Dalarnas Jakt & Fiskemässa
DESCRIPTION:Vi ställer ut som vanligt utanför entrén vid mässan.\nJa\, jag kan ställa upp och vara med på mässan!Vi behöver vara en grupp från föreningen som visar upp vår verksamhet\, visar kommunikation och radioapparater m.m.Aktivera JavaScript i din webbläsare för att fylla i formuläret.Aktivera JavaScript i din webbläsare för att fylla i formuläret.		\n			Namn meddelande Kommentar\n			\n		\n		Namn *E-post *Kommentar eller meddelandeSkicka   \n 
URL:https://rkalpha.se/event/dalarnas-jakt-fiskemassa/
LOCATION:Barken Arena\, Frejgatan\, Smedjebacken
ATTACH;FMTTYPE=image/png:https://rkalpha.se/wp-content/uploads/2025/12/JFM-Webblogo.png
END:VEVENT
BEGIN:VEVENT
DTSTART;TZID=Europe/Paris:20260510T160000
DTEND;TZID=Europe/Paris:20260510T190000
DTSTAMP:20260421T183433
CREATED:20260223T182108Z
LAST-MODIFIED:20260223T182108Z
UID:1089-1778428800-1778439600@rkalpha.se
SUMMARY:Provförrättning efter genomgången instegscertifikatkurs
DESCRIPTION:Närmare information om tid kommer.\nVi träffas ett par timmar tidigare för en sista genomgång och finslipning.\nOBS! Provet måste göras på plats!
URL:https://rkalpha.se/event/provforrattning-efter-genomgangen-instegscertifikatkurs/
LOCATION:ABF Smedjebacken\, Vasagatan 13\, Smedjebacken\, 77730\, Sweden
CATEGORIES:Kurser
END:VEVENT
BEGIN:VEVENT
DTSTART;TZID=Europe/Paris:20260516T120000
DTEND;TZID=Europe/Paris:20260516T180000
DTSTAMP:20260421T183433
CREATED:20260414T050421Z
LAST-MODIFIED:20260414T052032Z
UID:1345-1778932800-1778954400@rkalpha.se
SUMMARY:Klubb-Field Day
DESCRIPTION:Klubb-Field Day på Skepparberget. \nEn Field Day för medlemmar i föreningen. \nFör de som inte är sändaramatörer ännu finns chansen att se\, höra och om man så vill\, prova på att sända på HF-banden. \nVi kommer att sända på HF med vår klubbsignal\, SK4RA. \nFöreningen bjuder på grillkorv med bröd. \nMer information kommer inom kort.
URL:https://rkalpha.se/event/klubb-field-day/
LOCATION:Skepparberget\, Skeparbergsvägen\, Ludvika\, Sweden
CATEGORIES:Field Day
END:VEVENT
BEGIN:VEVENT
DTSTART;TZID=Europe/Paris:20260614T150000
DTEND;TZID=Europe/Paris:20260614T170000
DTSTAMP:20260421T183433
CREATED:20260212T092120Z
LAST-MODIFIED:20260212T092120Z
UID:934-1781449200-1781456400@rkalpha.se
SUMMARY:Styrelsemöte
DESCRIPTION:
URL:https://rkalpha.se/event/styrelsemote-7/
LOCATION:Sunnansjö\, Morhagsvägen 104
END:VEVENT
BEGIN:VEVENT
DTSTART;TZID=Europe/Paris:20260816T150000
DTEND;TZID=Europe/Paris:20260816T170000
DTSTAMP:20260421T183433
CREATED:20260212T092211Z
LAST-MODIFIED:20260212T092211Z
UID:938-1786892400-1786899600@rkalpha.se
SUMMARY:Styrelsemöte
DESCRIPTION:
URL:https://rkalpha.se/event/styrelsemote-8/
LOCATION:Sunnansjö\, Morhagsvägen 104
END:VEVENT
BEGIN:VEVENT
DTSTART;TZID=Europe/Paris:20261018T150000
DTEND;TZID=Europe/Paris:20261018T170000
DTSTAMP:20260421T183433
CREATED:20260212T091552Z
LAST-MODIFIED:20260212T091808Z
UID:926-1792335600-1792342800@rkalpha.se
SUMMARY:Styrelsemöte
DESCRIPTION:
URL:https://rkalpha.se/event/styrelsemote-5/
LOCATION:Sunnansjö\, Morhagsvägen 104
END:VEVENT
BEGIN:VEVENT
DTSTART;TZID=Europe/Paris:20261206T150000
DTEND;TZID=Europe/Paris:20261206T170000
DTSTAMP:20260421T183433
CREATED:20260212T091124Z
LAST-MODIFIED:20260212T091310Z
UID:921-1796569200-1796576400@rkalpha.se
SUMMARY:Styrelsemöte
DESCRIPTION:
URL:https://rkalpha.se/event/styrelsemote-4/
LOCATION:Sunnansjö\, Morhagsvägen 104
END:VEVENT
END:VCALENDAR