BEGIN:VCALENDAR
VERSION:2.0
PRODID:-//Radioklubben Alpha - Ideell förening - ECPv6.15.20//NONSGML v1.0//EN
CALSCALE:GREGORIAN
METHOD:PUBLISH
X-WR-CALNAME:Radioklubben Alpha - Ideell förening
X-ORIGINAL-URL:https://rkalpha.se
X-WR-CALDESC:Händelser för Radioklubben Alpha - Ideell förening
REFRESH-INTERVAL;VALUE=DURATION:PT1H
X-Robots-Tag:noindex
X-PUBLISHED-TTL:PT1H
BEGIN:VTIMEZONE
TZID:Europe/Paris
BEGIN:DAYLIGHT
TZOFFSETFROM:+0100
TZOFFSETTO:+0200
TZNAME:CEST
DTSTART:20250330T010000
END:DAYLIGHT
BEGIN:STANDARD
TZOFFSETFROM:+0200
TZOFFSETTO:+0100
TZNAME:CET
DTSTART:20251026T010000
END:STANDARD
BEGIN:DAYLIGHT
TZOFFSETFROM:+0100
TZOFFSETTO:+0200
TZNAME:CEST
DTSTART:20260329T010000
END:DAYLIGHT
BEGIN:STANDARD
TZOFFSETFROM:+0200
TZOFFSETTO:+0100
TZNAME:CET
DTSTART:20261025T010000
END:STANDARD
BEGIN:DAYLIGHT
TZOFFSETFROM:+0100
TZOFFSETTO:+0200
TZNAME:CEST
DTSTART:20270328T010000
END:DAYLIGHT
BEGIN:STANDARD
TZOFFSETFROM:+0200
TZOFFSETTO:+0100
TZNAME:CET
DTSTART:20271031T010000
END:STANDARD
END:VTIMEZONE
BEGIN:VEVENT
DTSTART;TZID=Europe/Paris:20261018T150000
DTEND;TZID=Europe/Paris:20261018T170000
DTSTAMP:20260422T013715
CREATED:20260212T091552Z
LAST-MODIFIED:20260212T091808Z
UID:926-1792335600-1792342800@rkalpha.se
SUMMARY:Styrelsemöte
DESCRIPTION:
URL:https://rkalpha.se/event/styrelsemote-5/
LOCATION:Sunnansjö\, Morhagsvägen 104
END:VEVENT
BEGIN:VEVENT
DTSTART;TZID=Europe/Paris:20261206T150000
DTEND;TZID=Europe/Paris:20261206T170000
DTSTAMP:20260422T013715
CREATED:20260212T091124Z
LAST-MODIFIED:20260212T091310Z
UID:921-1796569200-1796576400@rkalpha.se
SUMMARY:Styrelsemöte
DESCRIPTION:
URL:https://rkalpha.se/event/styrelsemote-4/
LOCATION:Sunnansjö\, Morhagsvägen 104
END:VEVENT
END:VCALENDAR