BEGIN:VCALENDAR
VERSION:2.0
PRODID:-//Radioklubben Alpha - Ideell förening - ECPv6.15.20//NONSGML v1.0//EN
CALSCALE:GREGORIAN
METHOD:PUBLISH
X-ORIGINAL-URL:https://rkalpha.se
X-WR-CALDESC:Händelser för Radioklubben Alpha - Ideell förening
REFRESH-INTERVAL;VALUE=DURATION:PT1H
X-Robots-Tag:noindex
X-PUBLISHED-TTL:PT1H
BEGIN:VTIMEZONE
TZID:Europe/Paris
BEGIN:DAYLIGHT
TZOFFSETFROM:+0100
TZOFFSETTO:+0200
TZNAME:CEST
DTSTART:20250330T010000
END:DAYLIGHT
BEGIN:STANDARD
TZOFFSETFROM:+0200
TZOFFSETTO:+0100
TZNAME:CET
DTSTART:20251026T010000
END:STANDARD
BEGIN:DAYLIGHT
TZOFFSETFROM:+0100
TZOFFSETTO:+0200
TZNAME:CEST
DTSTART:20260329T010000
END:DAYLIGHT
BEGIN:STANDARD
TZOFFSETFROM:+0200
TZOFFSETTO:+0100
TZNAME:CET
DTSTART:20261025T010000
END:STANDARD
BEGIN:DAYLIGHT
TZOFFSETFROM:+0100
TZOFFSETTO:+0200
TZNAME:CEST
DTSTART:20270328T010000
END:DAYLIGHT
BEGIN:STANDARD
TZOFFSETFROM:+0200
TZOFFSETTO:+0100
TZNAME:CET
DTSTART:20271031T010000
END:STANDARD
END:VTIMEZONE
BEGIN:VEVENT
DTSTART;TZID=Europe/Paris:20260509T090000
DTEND;TZID=Europe/Paris:20260510T160000
DTSTAMP:20260421T164432
CREATED:20260116T145836Z
LAST-MODIFIED:20260116T150713Z
UID:711-1778317200-1778428800@rkalpha.se
SUMMARY:Dalarnas Jakt & Fiskemässa
DESCRIPTION:Vi ställer ut som vanligt utanför entrén vid mässan.\nJa\, jag kan ställa upp och vara med på mässan!Vi behöver vara en grupp från föreningen som visar upp vår verksamhet\, visar kommunikation och radioapparater m.m.Aktivera JavaScript i din webbläsare för att fylla i formuläret.Aktivera JavaScript i din webbläsare för att fylla i formuläret.		\n			eller meddelande Namn\n			\n		\n		Namn *E-post *Kommentar eller meddelandeSkicka   \n 
URL:https://rkalpha.se/event/dalarnas-jakt-fiskemassa/
LOCATION:Barken Arena\, Frejgatan\, Smedjebacken
ATTACH;FMTTYPE=image/png:https://rkalpha.se/wp-content/uploads/2025/12/JFM-Webblogo.png
END:VEVENT
END:VCALENDAR