BEGIN:VCALENDAR
VERSION:2.0
PRODID:-//Radioklubben Alpha - Ideell förening - ECPv6.15.20//NONSGML v1.0//EN
CALSCALE:GREGORIAN
METHOD:PUBLISH
X-ORIGINAL-URL:https://rkalpha.se
X-WR-CALDESC:Händelser för Radioklubben Alpha - Ideell förening
REFRESH-INTERVAL;VALUE=DURATION:PT1H
X-Robots-Tag:noindex
X-PUBLISHED-TTL:PT1H
BEGIN:VTIMEZONE
TZID:Europe/Paris
BEGIN:DAYLIGHT
TZOFFSETFROM:+0100
TZOFFSETTO:+0200
TZNAME:CEST
DTSTART:20250330T010000
END:DAYLIGHT
BEGIN:STANDARD
TZOFFSETFROM:+0200
TZOFFSETTO:+0100
TZNAME:CET
DTSTART:20251026T010000
END:STANDARD
BEGIN:DAYLIGHT
TZOFFSETFROM:+0100
TZOFFSETTO:+0200
TZNAME:CEST
DTSTART:20260329T010000
END:DAYLIGHT
BEGIN:STANDARD
TZOFFSETFROM:+0200
TZOFFSETTO:+0100
TZNAME:CET
DTSTART:20261025T010000
END:STANDARD
BEGIN:DAYLIGHT
TZOFFSETFROM:+0100
TZOFFSETTO:+0200
TZNAME:CEST
DTSTART:20270328T010000
END:DAYLIGHT
BEGIN:STANDARD
TZOFFSETFROM:+0200
TZOFFSETTO:+0100
TZNAME:CET
DTSTART:20271031T010000
END:STANDARD
END:VTIMEZONE
BEGIN:VEVENT
DTSTART;TZID=Europe/Paris:20260309T084500
DTEND;TZID=Europe/Paris:20260309T090000
DTSTAMP:20260422T013041
CREATED:20260307T174209Z
LAST-MODIFIED:20260307T174209Z
UID:1210-1773045900-1773046800@rkalpha.se
SUMMARY:Månadens radiocheck
DESCRIPTION:Månadens radiocheck med Smedjebackens kommun\, Räddningstjänst Smedjebacken\, Ludvika kommun Säkerhetsenheten\, IT-center.
URL:https://rkalpha.se/event/manadens-radiocheck/
CATEGORIES:Övningar
END:VEVENT
END:VCALENDAR