BEGIN:VCALENDAR
VERSION:2.0
PRODID:-//Radioklubben Alpha - Ideell förening - ECPv6.15.20//NONSGML v1.0//EN
CALSCALE:GREGORIAN
METHOD:PUBLISH
X-WR-CALNAME:Radioklubben Alpha - Ideell förening
X-ORIGINAL-URL:https://rkalpha.se
X-WR-CALDESC:Händelser för Radioklubben Alpha - Ideell förening
REFRESH-INTERVAL;VALUE=DURATION:PT1H
X-Robots-Tag:noindex
X-PUBLISHED-TTL:PT1H
BEGIN:VTIMEZONE
TZID:Europe/Paris
BEGIN:DAYLIGHT
TZOFFSETFROM:+0100
TZOFFSETTO:+0200
TZNAME:CEST
DTSTART:20250330T010000
END:DAYLIGHT
BEGIN:STANDARD
TZOFFSETFROM:+0200
TZOFFSETTO:+0100
TZNAME:CET
DTSTART:20251026T010000
END:STANDARD
BEGIN:DAYLIGHT
TZOFFSETFROM:+0100
TZOFFSETTO:+0200
TZNAME:CEST
DTSTART:20260329T010000
END:DAYLIGHT
BEGIN:STANDARD
TZOFFSETFROM:+0200
TZOFFSETTO:+0100
TZNAME:CET
DTSTART:20261025T010000
END:STANDARD
BEGIN:DAYLIGHT
TZOFFSETFROM:+0100
TZOFFSETTO:+0200
TZNAME:CEST
DTSTART:20270328T010000
END:DAYLIGHT
BEGIN:STANDARD
TZOFFSETFROM:+0200
TZOFFSETTO:+0100
TZNAME:CET
DTSTART:20271031T010000
END:STANDARD
END:VTIMEZONE
BEGIN:VEVENT
DTSTART;TZID=Europe/Paris:20260225T170000
DTEND;TZID=Europe/Paris:20260225T190000
DTSTAMP:20260421T204630
CREATED:20260202T151738Z
LAST-MODIFIED:20260202T160328Z
UID:859-1772038800-1772046000@rkalpha.se
SUMMARY:Kommunikationsövning med Smedjebackens kommun och räddningstjänsten
DESCRIPTION:Samling vid kommunhuset i Smedjebacken kl. 17:00 25/2 2026.\nVi åker sedan ut till de olika Trygghetspunkterna för att prova kommunikationen. Detta görs på både 69MHz via klubbfrekvensen och via repeatern samt direktfrekvensen på VHF. \nAnmäl ditt deltagande nedan: \nAktivera JavaScript i din webbläsare för att fylla i formuläret.Aktivera JavaScript i din webbläsare för att fylla i formuläret.		\n			E-post Namn Kommentar\n			\n		\n		Namn *FörstSistE-post *Kommentar eller meddelandeSkicka
URL:https://rkalpha.se/event/kommunikationsovning-med-smedjebackens-kommun-och-raddningstjansten/
LOCATION:Kommunhuset Smedjebacken
CATEGORIES:Övningar
END:VEVENT
END:VCALENDAR